BEGIN:VCALENDAR
VERSION:2.0
PRODID:-//wp-events-plugin.com//7.2.3.1//EN
TZID:America/Los_Angeles
X-WR-TIMEZONE:America/Los_Angeles
BEGIN:VEVENT
UID:27@santacruztextileartsguild.com
DTSTART;TZID=America/Los_Angeles:20240313T130000
DTEND;TZID=America/Los_Angeles:20240313T170000
DTSTAMP:20240316T174108Z
URL:https://santacruztextileartsguild.com/events/becoming-a-wedgie/
SUMMARY:SCTAG March Workshop
DESCRIPTION:\nTopic: Becoming a Wedgie!\n\n\n\nIn this one and a half day w
 orkshop\, you will learn the basic structure of wedge weave\, we’ll begi
 n it together\, and then just have fun with it. Beginning weavers welcome.
  If you love yarn and can weave over and under warps\, you can do it. A si
 mple design will be mapped out for you so you can jump right in.\nThis wor
 kshop continues on the following day\, March 14\, from 10:00am to 5:00pm a
 t the same location.\n\n\n\n\n\nInstructor: Janette Gross\n\n\n\nWebsite: 
 https://www.smugmug.com/gallery/n-XN4pMM/i-BkcXqmt/A\n\n\n\nJanette Gross 
 has been studying\, weaving and exhibiting her wedge weave tapestries for 
 17 years. She is one of two Rydell Visual Arts Fellows for 2023 and the fi
 rst weaver/tapestry artist to be selected in the fellowship’s 17 year hi
 story. Janette will bring samples of her own work\, from her very first p
 iece to the current ones\, and encourages everyone to bring their own wed
 ge weave work or purchased examples to share.\n\nCost: $50.00 and includes
  materials.\nClick here to register.
CATEGORIES:Workshop
LOCATION:Santa Cruz Friends Meetinghouse\, 225 Rooney St\, Santa Cruz\, CA\
 , 95065\, United States
GEO:36.989141;-122.003868
X-APPLE-STRUCTURED-LOCATION;VALUE=URI;X-ADDRESS=225 Rooney St\, Santa Cruz\
 , CA\, 95065\, United States;X-APPLE-RADIUS=100;X-TITLE=Santa Cruz Friends
  Meetinghouse:geo:36.989141,-122.003868
END:VEVENT
BEGIN:VTIMEZONE
TZID:America/Los_Angeles
X-LIC-LOCATION:America/Los_Angeles
BEGIN:DAYLIGHT
DTSTART:20240310T030000
TZOFFSETFROM:-0800
TZOFFSETTO:-0700
TZNAME:PDT
END:DAYLIGHT
END:VTIMEZONE
END:VCALENDAR