BEGIN:VCALENDAR
VERSION:2.0
PRODID:-//wp-events-plugin.com//7.2.3.1//EN
TZID:America/Los_Angeles
X-WR-TIMEZONE:America/Los_Angeles
BEGIN:VEVENT
UID:85@santacruztextileartsguild.com
DTSTART;TZID=America/Los_Angeles;VALUE=DATE:20260514
DTEND;TZID=America/Los_Angeles;VALUE=DATE:20260518
DTSTAMP:20251101T174407Z
URL:https://santacruztextileartsguild.com/events/cnch-2026-conference/
SUMMARY:CNCH 2026 Conference
DESCRIPTION:\nFiber Tales\, Down the Rabbit Hole\n\n\n\nWith 13 instructors
  who will inspire you to pitch yourself\, arms wide open\, further into th
 e fantastic world of fiber. Join them at CNCH 2026\, May 14 – 17\, at As
 ilomar Conference Grounds. Your 15 hours of instruction can be found in tw
 o formats: a 15 hour workshop OR a 12 hour workshop and a 3 hour seminar.\
 n\n\n\nMore information here.\n
ATTACH;FMTTYPE=image/jpeg:https://santacruztextileartsguild.com/wp-content
 /uploads/2025/11/CNCH2026logo-1.jpg
CATEGORIES:Local Events of Interest,Physical
LOCATION:Asilomar State Beach\, Asilomar State Beach\, Pacific Grove\, CA\,
  93950\, United States
GEO:36.618009;-121.941912
X-APPLE-STRUCTURED-LOCATION;VALUE=URI;X-ADDRESS=Asilomar State Beach\, Paci
 fic Grove\, CA\, 93950\, United States;X-APPLE-RADIUS=100;X-TITLE=Asilomar
  State Beach:geo:36.618009,-121.941912
END:VEVENT
BEGIN:VTIMEZONE
TZID:America/Los_Angeles
X-LIC-LOCATION:America/Los_Angeles
BEGIN:DAYLIGHT
DTSTART:20260308T030000
TZOFFSETFROM:-0800
TZOFFSETTO:-0700
TZNAME:PDT
END:DAYLIGHT
END:VTIMEZONE
END:VCALENDAR