BEGIN:VCALENDAR
VERSION:2.0
PRODID:-//wp-events-plugin.com//7.2.3.1//EN
TZID:America/Los_Angeles
X-WR-TIMEZONE:America/Los_Angeles
BEGIN:VEVENT
UID:79@santacruztextileartsguild.com
DTSTART;TZID=America/Los_Angeles:20260211T130000
DTEND;TZID=America/Los_Angeles:20260211T170000
DTSTAMP:20251016T194731Z
URL:https://santacruztextileartsguild.com/events/february-workshop/
SUMMARY:February Workshop - Kami-ito and Shifu
DESCRIPTION:\nInstructor: Barbara Nitzberg\n\n\n\nLearn the basics of makin
 g and using paper thread. Experiment with the steps to making your own pap
 er thread and how you might use it. Barbara will teach the adaptations she
  uses for the materials she loves\, old sewing patterns. We can experiment
  with different papers she will bring and try out papers that class member
 s bring.\n\n\n\nMembers: $65.00\n\n\n\nNon-Members: $85.00\n\n\n\nClick he
 re to register.\n
ATTACH;FMTTYPE=image/jpeg:https://santacruztextileartsguild.com/wp-content
 /uploads/2025/07/IMG_3627-scaled.jpeg
CATEGORIES:Monthly Meeting
LOCATION:Mid-County Senior Center\, 829 Bay Ave\, Capitola\, CA\, 95010\, U
 nited States
GEO:36.981348;-121.957398
X-APPLE-STRUCTURED-LOCATION;VALUE=URI;X-ADDRESS=829 Bay Ave\, Capitola\, CA
 \, 95010\, United States;X-APPLE-RADIUS=100;X-TITLE=Mid-County Senior Cent
 er:geo:36.981348,-121.957398
END:VEVENT
BEGIN:VTIMEZONE
TZID:America/Los_Angeles
X-LIC-LOCATION:America/Los_Angeles
BEGIN:STANDARD
DTSTART:20251102T010000
TZOFFSETFROM:-0700
TZOFFSETTO:-0800
TZNAME:PST
END:STANDARD
END:VTIMEZONE
END:VCALENDAR