BEGIN:VCALENDAR
VERSION:2.0
PRODID:-//wp-events-plugin.com//7.2.3.1//EN
TZID:America/Los_Angeles
X-WR-TIMEZONE:America/Los_Angeles
BEGIN:VEVENT
UID:64@santacruztextileartsguild.com
DTSTART;TZID=America/Los_Angeles:20260722T103000
DTEND;TZID=America/Los_Angeles:20260722T143000
DTSTAMP:20250526T221152Z
URL:https://santacruztextileartsguild.com/events/july-2026-play-day-at-the
 -felton-branch-public-library/
SUMMARY:July 2026 Play Day at the Felton Branch Public Library
DESCRIPTION:Bring your current portable projects\, including those you migh
 t need help with. Socializing will add to the fun. The library room is bot
 h inside and outside (you must attend to discover that feature). Bring you
 r lunch or Felton has a number of great restaurants.\n\nPlay Day at the Fe
 lton Branch Public Library will occur monthly on the 4th Wednesday\, 8/27/
 2025 to 8/26/2026\, except for November and December.
CATEGORIES:Local Events of Interest,Physical
LOCATION:Felton Branch Public Library\, 6121 Gushee St.\, Felton\, CA\, 950
 18\, United States
GEO:37.049862;-122.074621
X-APPLE-STRUCTURED-LOCATION;VALUE=URI;X-ADDRESS=6121 Gushee St.\, Felton\, 
 CA\, 95018\, United States;X-APPLE-RADIUS=100;X-TITLE=Felton Branch Public
  Library:geo:37.049862,-122.074621
END:VEVENT
BEGIN:VTIMEZONE
TZID:America/Los_Angeles
X-LIC-LOCATION:America/Los_Angeles
BEGIN:DAYLIGHT
DTSTART:20260308T030000
TZOFFSETFROM:-0800
TZOFFSETTO:-0700
TZNAME:PDT
END:DAYLIGHT
END:VTIMEZONE
END:VCALENDAR