BEGIN:VCALENDAR
VERSION:2.0
PRODID:-//wp-events-plugin.com//7.2.3.1//EN
TZID:America/Los_Angeles
X-WR-TIMEZONE:America/Los_Angeles
BEGIN:VEVENT
UID:84@santacruztextileartsguild.com
DTSTART;TZID=America/Los_Angeles:20260313T090000
DTEND;TZID=America/Los_Angeles:20260314T160000
DTSTAMP:20251116T232152Z
URL:https://santacruztextileartsguild.com/events/march-workshop-advanced-b
 ackstrap-weaving/
SUMMARY:March Workshop - Advanced Backstrap Weaving
DESCRIPTION:\nSpeaker: Ann Hamburg\n\n\n\nLocation: A private home in Aptos
 \, address will be sent to registered attendees.\n\n\n\nCost:\n\n\n\n\nMem
 ber: $200.00\, plus a small materials fee paid to the instructor at the wo
 rkshop\n\n\n\nNon-member: $220.00\, plus a small materials fee paid to the
  instructor at the workshop\n\n\n\n\nPrerequisite: \n\n\n\nTHIS WORKSHOP R
 EQUIRES COMPLETION OF THE BASIC BACKSTRAP WORKSHOP OR EQUIVALENT BACKSTRAP
  WEAVING EXPERIENCE\n\n\n\nWorkshop description:This workshop will focus o
 n the complementary warp pickup technique. \n\n\n\n\n\n\nClick here to reg
 ister\n\n\n\n
ATTACH;FMTTYPE=image/jpeg:https://santacruztextileartsguild.com/wp-content
 /uploads/2025/07/backstrap-2.jpg
CATEGORIES:Workshop
END:VEVENT
BEGIN:VTIMEZONE
TZID:America/Los_Angeles
X-LIC-LOCATION:America/Los_Angeles
BEGIN:DAYLIGHT
DTSTART:20260308T030000
TZOFFSETFROM:-0800
TZOFFSETTO:-0700
TZNAME:PDT
END:DAYLIGHT
END:VTIMEZONE
END:VCALENDAR