BEGIN:VCALENDAR
VERSION:2.0
PRODID:-//wp-events-plugin.com//7.2.3.1//EN
TZID:America/Los_Angeles
X-WR-TIMEZONE:America/Los_Angeles
BEGIN:VEVENT
UID:82@santacruztextileartsguild.com
DTSTART;TZID=America/Los_Angeles:20260518T090000
DTEND;TZID=America/Los_Angeles:20260519T160000
DTSTAMP:20260115T151421Z
URL:https://santacruztextileartsguild.com/events/may-workshop-sculptural-t
 apestry-with-beads-and-wire/
SUMMARY:May Workshop - Sculptural Tapestry with Beads and Wire
DESCRIPTION:\nInstructor: Rebecca Smith \n\n\n\nDates: May 18\, 2026 - 9:00
  AM to 4:00 PM May 19\, 2026 - 9:00 AM to 4:00 PM\n\n\n\nLocation:  TBD. L
 ocation will be provided to all registrants at least one month before work
 shop dates. \n\n\n\nImportant Information: Click the More Info  button for
  pre-workshop preparation requirements and to register.\n\n
ATTACH;FMTTYPE=image/jpeg:https://santacruztextileartsguild.com/wp-content
 /uploads/2025/10/spring-begins-72-dpi.jpg
CATEGORIES:Workshop
END:VEVENT
BEGIN:VTIMEZONE
TZID:America/Los_Angeles
X-LIC-LOCATION:America/Los_Angeles
BEGIN:DAYLIGHT
DTSTART:20260308T030000
TZOFFSETFROM:-0800
TZOFFSETTO:-0700
TZNAME:PDT
END:DAYLIGHT
END:VTIMEZONE
END:VCALENDAR