BEGIN:VCALENDAR
VERSION:2.0
PRODID:-//wp-events-plugin.com//7.2.3.1//EN
TZID:America/Los_Angeles
X-WR-TIMEZONE:America/Los_Angeles
BEGIN:VEVENT
UID:69@santacruztextileartsguild.com
DTSTART;TZID=America/Los_Angeles:20251112T130000
DTEND;TZID=America/Los_Angeles:20251112T170000
DTSTAMP:20251108T215848Z
URL:https://santacruztextileartsguild.com/events/october-workshop/
SUMMARY:November Workshop - Rug Weaving Basics and Weave-Along
DESCRIPTION:\nInstructors: Joan Vierra and Janette Gross\n\n\n\nDescription
 : Due to the unfortunate cancellation of Mary Zicafoose's workshop\, Guild
  members Joan Vierra and Janette Gross will lead the Rug Weaving Basics an
 d Weave-Along Workshop. This workshop and weave-along will be held at the 
 same time\, dates\, and location. Joan and Janette will cover basic techni
 ques and structures that work well to create a useful and beautiful wool r
 ug as well as finishes and other fun techniques.\n\n\n\nPlease note: the w
 orkshop is full to capacity with all 12 original registrants.\n
ATTACH;FMTTYPE=image/jpeg:https://santacruztextileartsguild.com/wp-content
 /uploads/2025/06/Field-Guide-Study-No-6.png
CATEGORIES:Workshop
END:VEVENT
BEGIN:VTIMEZONE
TZID:America/Los_Angeles
X-LIC-LOCATION:America/Los_Angeles
BEGIN:STANDARD
DTSTART:20251102T010000
TZOFFSETFROM:-0700
TZOFFSETTO:-0800
TZNAME:PST
END:STANDARD
END:VTIMEZONE
END:VCALENDAR