BEGIN:VCALENDAR
VERSION:2.0
PRODID:-//wp-events-plugin.com//7.2.3.1//EN
TZID:America/Los_Angeles
X-WR-TIMEZONE:America/Los_Angeles
BEGIN:VEVENT
UID:107@santacruztextileartsguild.com
DTSTART;TZID=America/Los_Angeles:20260425T103000
DTEND;TZID=America/Los_Angeles:20260425T143000
DTSTAMP:20260325T122915Z
URL:https://santacruztextileartsguild.com/events/santa-cruz-textile-arts-c
 raft-day/
SUMMARY:Santa Cruz Textile Arts Craft Day
DESCRIPTION:\nJoin us for a fiber arts meetup in Live Oak. This is a great 
 opportunity to work on your own project or learn a new craft. Depending on
  attendance and interest\, possibilities include floor loom weaving\, inkl
 e weaving\, card weaving\, spinning\, and rock wrapping.\n\n\n\nWe welcome
  new guild members as well as experienced crafters who would like to share
  their skills. Please feel free to invite a friend.\n\n\n\nClick here to R
 .S.V.P. and receive the exact location and confirm your attendance.\n\n\n\
 n\n
CATEGORIES:Local Events of Interest,Physical
LOCATION:Live Oak\, Santa Cruz\, CA\, United States
GEO:36.974128;-122.028807
X-APPLE-STRUCTURED-LOCATION;VALUE=URI;X-ADDRESS=Santa Cruz\, CA\, United St
 ates;X-APPLE-RADIUS=100;X-TITLE=Live Oak:geo:36.974128,-122.028807
END:VEVENT
BEGIN:VTIMEZONE
TZID:America/Los_Angeles
X-LIC-LOCATION:America/Los_Angeles
BEGIN:DAYLIGHT
DTSTART:20260308T030000
TZOFFSETFROM:-0800
TZOFFSETTO:-0700
TZNAME:PDT
END:DAYLIGHT
END:VTIMEZONE
END:VCALENDAR