BEGIN:VCALENDAR
VERSION:2.0
PRODID:-//wp-events-plugin.com//7.2.3.1//EN
TZID:America/Los_Angeles
X-WR-TIMEZONE:America/Los_Angeles
BEGIN:VEVENT
UID:105@santacruztextileartsguild.com
DTSTART;TZID=America/Los_Angeles:20260425T103000
DTEND;TZID=America/Los_Angeles:20260425T143000
DTSTAMP:20260214T191435Z
URL:https://santacruztextileartsguild.com/events/santa-cruz-textile-arts-g
 uild-play-day/
SUMMARY:Santa Cruz Textile Arts Guild Play Day
DESCRIPTION:More information coming soon.
CATEGORIES:Local Events of Interest,Physical
LOCATION:Live Oak\, Santa Cruz\, CA\, United States
GEO:36.974128;-122.028807
X-APPLE-STRUCTURED-LOCATION;VALUE=URI;X-ADDRESS=Santa Cruz\, CA\, United St
 ates;X-APPLE-RADIUS=100;X-TITLE=Live Oak:geo:36.974128,-122.028807
END:VEVENT
BEGIN:VTIMEZONE
TZID:America/Los_Angeles
X-LIC-LOCATION:America/Los_Angeles
BEGIN:DAYLIGHT
DTSTART:20260308T030000
TZOFFSETFROM:-0800
TZOFFSETTO:-0700
TZNAME:PDT
END:DAYLIGHT
END:VTIMEZONE
END:VCALENDAR