BEGIN:VCALENDAR
VERSION:2.0
PRODID:-//wp-events-plugin.com//7.2.3.1//EN
TZID:America/Los_Angeles
X-WR-TIMEZONE:America/Los_Angeles
BEGIN:VEVENT
UID:23@santacruztextileartsguild.com
DTSTART;TZID=America/Los_Angeles:20240410T093000
DTEND;TZID=America/Los_Angeles:20240410T120000
DTSTAMP:20231016T145958Z
URL:https://santacruztextileartsguild.com/events/sctag-april-meeting-2024/
SUMMARY:SCTAG April Meeting
DESCRIPTION:Topic: Double-Sided Weaving\n\nSpeaker: Mary Napier\n\nMary wil
 l be discussing and demonstrating the weaving techniques that were used in
  the twofaced rug of "Wildflowers Return After The Fire\," a Navajo-style 
 Two-Faced Weaving.\n\n
CATEGORIES:Monthly Meeting
LOCATION:Santa Cruz Friends Meetinghouse\, 225 Rooney St\, Santa Cruz\, CA\
 , 95065\, United States
GEO:36.989141;-122.003868
X-APPLE-STRUCTURED-LOCATION;VALUE=URI;X-ADDRESS=225 Rooney St\, Santa Cruz\
 , CA\, 95065\, United States;X-APPLE-RADIUS=100;X-TITLE=Santa Cruz Friends
  Meetinghouse:geo:36.989141,-122.003868
END:VEVENT
BEGIN:VTIMEZONE
TZID:America/Los_Angeles
X-LIC-LOCATION:America/Los_Angeles
BEGIN:DAYLIGHT
DTSTART:20240310T030000
TZOFFSETFROM:-0800
TZOFFSETTO:-0700
TZNAME:PDT
END:DAYLIGHT
END:VTIMEZONE
END:VCALENDAR