BEGIN:VCALENDAR
VERSION:2.0
PRODID:-//wp-events-plugin.com//7.2.3.1//EN
TZID:America/Los_Angeles
X-WR-TIMEZONE:America/Los_Angeles
BEGIN:VEVENT
UID:43@santacruztextileartsguild.com
DTSTART;TZID=America/Los_Angeles:20250409T093000
DTEND;TZID=America/Los_Angeles:20250409T120000
DTSTAMP:20241107T194244Z
URL:https://santacruztextileartsguild.com/events/sctag-april-meeting-3/
SUMMARY:SCTAG April Meeting
DESCRIPTION:\nTopic: Taking Our Fiber Art Beyond Where We’ve Been\n\n\n\n
 Description: In this presentation\, I’ll offer an inspiring\, mind-openi
 ng talk about our own personal creative process and share many ideas for a
 pproaching new ways of working.\n\n\n\nMaking art is metaphorical for life
 \, with so many decisions to make and so many directions things can go\, w
 ith ups and downs\, being in the flow and falling out of it\, pushing past
  challenges\, trying new ideas and approaches\, taking risks\, repeating p
 atterns\, breaking out of patterns and an overall super exciting journey. 
 So much within art is within life. And the world around us is filled with 
 ideas and inspiration when we open ourselves to seeing in this way.\n\n\n\
 nSpeaker: Vicki Assegued\, M.A.\n\n\n\nVicki\, is an innovative fiber arti
 st\, continually experimenting with\, and discovering new techniques to br
 ing out a wide range of effects and structures for both 2D and 3D art piec
 es. Vicki greatly enjoys working with the vast variety and possibilities t
 hat fabrics and fibers offer. She loves to share her techniques with her s
 tudents and support them to create their own unique and stunning fiber art
 . She teaches privately and through various art schools\, and exhibits/sel
 ls her art at various galleries and shows.\n\n\n\nWebsite: https://www.vic
 kiart.com\n\n\n\n\n
CATEGORIES:Monthly Meeting
LOCATION:Mid-County Senior Center\, 829 Bay Ave\, Capitola\, CA\, 95010\, U
 nited States
GEO:36.981348;-121.957398
X-APPLE-STRUCTURED-LOCATION;VALUE=URI;X-ADDRESS=829 Bay Ave\, Capitola\, CA
 \, 95010\, United States;X-APPLE-RADIUS=100;X-TITLE=Mid-County Senior Cent
 er:geo:36.981348,-121.957398
END:VEVENT
BEGIN:VTIMEZONE
TZID:America/Los_Angeles
X-LIC-LOCATION:America/Los_Angeles
BEGIN:DAYLIGHT
DTSTART:20250309T030000
TZOFFSETFROM:-0800
TZOFFSETTO:-0700
TZNAME:PDT
END:DAYLIGHT
END:VTIMEZONE
END:VCALENDAR