BEGIN:VCALENDAR
VERSION:2.0
PRODID:-//wp-events-plugin.com//7.2.3.1//EN
TZID:America/Los_Angeles
X-WR-TIMEZONE:America/Los_Angeles
BEGIN:VEVENT
UID:72@santacruztextileartsguild.com
DTSTART;TZID=America/Los_Angeles:20260408T093000
DTEND;TZID=America/Los_Angeles:20260408T120000
DTSTAMP:20251016T195911Z
URL:https://santacruztextileartsguild.com/events/sctag-april-meeting-5/
SUMMARY:April - How to Upcycle a Man’s Shirt
DESCRIPTION:\nSpeaker: Patti Wells\n\n\n\nThis demonstration will take the 
 group through each of the steps used to modify a man’s shirt. The remova
 l of the top half of the collar\, and substituting a mandarin collar inste
 ad\; the addition of pockets in several places along the front\; altering 
 the hem line\; changing the sleeve length and creating a gathered band\; i
 nstalling a placket to allow for various button placements.\n\n\n
ATTACH;FMTTYPE=image/jpeg:https://santacruztextileartsguild.com/wp-content
 /uploads/2025/07/wells-01.png
CATEGORIES:Monthly Meeting
LOCATION:Mid-County Senior Center\, 829 Bay Ave\, Capitola\, CA\, 95010\, U
 nited States
GEO:36.981348;-121.957398
X-APPLE-STRUCTURED-LOCATION;VALUE=URI;X-ADDRESS=829 Bay Ave\, Capitola\, CA
 \, 95010\, United States;X-APPLE-RADIUS=100;X-TITLE=Mid-County Senior Cent
 er:geo:36.981348,-121.957398
END:VEVENT
BEGIN:VTIMEZONE
TZID:America/Los_Angeles
X-LIC-LOCATION:America/Los_Angeles
BEGIN:DAYLIGHT
DTSTART:20260308T030000
TZOFFSETFROM:-0800
TZOFFSETTO:-0700
TZNAME:PDT
END:DAYLIGHT
END:VTIMEZONE
END:VCALENDAR