BEGIN:VCALENDAR
VERSION:2.0
PRODID:-//wp-events-plugin.com//7.2.3.1//EN
TZID:America/Los_Angeles
X-WR-TIMEZONE:America/Los_Angeles
BEGIN:VEVENT
UID:32@santacruztextileartsguild.com
DTSTART;TZID=America/Los_Angeles:20241211T110000
DTEND;TZID=America/Los_Angeles:20241211T130000
DTSTAMP:20241025T172526Z
URL:https://santacruztextileartsguild.com/events/sctag-december-meeting-3/
SUMMARY:SCTAG December Meeting
DESCRIPTION:\nPlease note time change from our normal meetings.\n\n\n\n\nWe
 ’ll be together for a brunch potluck in the big front room at the Mid-Co
 unty Senior Center. There will be decorations\, an historical display abou
 t the Guild\, optional games and surprises. Bring a friend or family membe
 r for $5. Guild members are free. More infor at Lizzy@baymoon.com.\n\n\n\n
 \n\n\n\n\n
CATEGORIES:Monthly Meeting
LOCATION:Mid-County Senior Center\, 829 Bay Ave\, Capitola\, CA\, 95010\, U
 nited States
GEO:36.981348;-121.957398
X-APPLE-STRUCTURED-LOCATION;VALUE=URI;X-ADDRESS=829 Bay Ave\, Capitola\, CA
 \, 95010\, United States;X-APPLE-RADIUS=100;X-TITLE=Mid-County Senior Cent
 er:geo:36.981348,-121.957398
END:VEVENT
BEGIN:VTIMEZONE
TZID:America/Los_Angeles
X-LIC-LOCATION:America/Los_Angeles
BEGIN:STANDARD
DTSTART:20241103T010000
TZOFFSETFROM:-0700
TZOFFSETTO:-0800
TZNAME:PST
END:STANDARD
END:VTIMEZONE
END:VCALENDAR