BEGIN:VCALENDAR
VERSION:2.0
PRODID:-//wp-events-plugin.com//7.2.3.1//EN
TZID:America/Los_Angeles
X-WR-TIMEZONE:America/Los_Angeles
BEGIN:VEVENT
UID:74@santacruztextileartsguild.com
DTSTART;TZID=America/Los_Angeles:20251210T120000
DTEND;TZID=America/Los_Angeles:20251210T140000
DTSTAMP:20251016T190922Z
URL:https://santacruztextileartsguild.com/events/sctag-december-meeting-4/
SUMMARY:December - Annual Holiday Party
DESCRIPTION:\nDon’t miss our wonderful Holiday potluck / party. It will b
 e held on December 10 th\, 12 to 2 p.m. (in lieu of the regular December g
 uild meeting). We will be having an ugly sweater contest. Since decorating
  your individual place settings was such a hit last year\, we will be doin
 g it again this year. Please bring your own place setting. Prizes will be 
 awarded. We’ll also be having the optional handmade gift exchange for an
 yone interested. Bring your favorite pot luck dish to share with all your 
 friends!\n\n\n\nSanta Claus will be joining the festivities!\n\n\n\nWe wil
 l circulate a signup sheet for helpers at our November guild meeting.\n
ATTACH;FMTTYPE=image/jpeg:https://santacruztextileartsguild.com/wp-content
 /uploads/2025/07/xmas-e1760213190893.jpg
CATEGORIES:Monthly Meeting
LOCATION:Mid-County Senior Center\, 829 Bay Ave\, Capitola\, CA\, 95010\, U
 nited States
GEO:36.981348;-121.957398
X-APPLE-STRUCTURED-LOCATION;VALUE=URI;X-ADDRESS=829 Bay Ave\, Capitola\, CA
 \, 95010\, United States;X-APPLE-RADIUS=100;X-TITLE=Mid-County Senior Cent
 er:geo:36.981348,-121.957398
END:VEVENT
BEGIN:VTIMEZONE
TZID:America/Los_Angeles
X-LIC-LOCATION:America/Los_Angeles
BEGIN:STANDARD
DTSTART:20251102T010000
TZOFFSETFROM:-0700
TZOFFSETTO:-0800
TZNAME:PST
END:STANDARD
END:VTIMEZONE
END:VCALENDAR