BEGIN:VCALENDAR
VERSION:2.0
PRODID:-//wp-events-plugin.com//7.2.3.1//EN
TZID:America/Los_Angeles
X-WR-TIMEZONE:America/Los_Angeles
BEGIN:VEVENT
UID:34@santacruztextileartsguild.com
DTSTART;TZID=America/Los_Angeles:20250212T093000
DTEND;TZID=America/Los_Angeles:20250212T120000
DTSTAMP:20240929T230448Z
URL:https://santacruztextileartsguild.com/events/sctag-february-meeting/
SUMMARY:SCTAG February Meeting
DESCRIPTION:\n\nTopic: Introduction to Hardangersøm (Norwegian Hardanger E
 mbroidery)\n\n\n\nThis presentation will provide an introduction to Norweg
 ian Hardanger Embroidery\, know as Hardangersøm. It will also cover a bit
  about the Hardanger region of Norway and the origins of this traditional 
 Nordic art form.\n\n\n\n\n\n\n\nSpeaker: Bruce Fihe\n\n\n\nI’ve been inv
 olved in fiber arts for longer than I can remember. My mother taught me to
  knit when I was five. I admit\, I did not do much at that time. In my lat
 e teens I did a few projects and finally started serious knitting about th
 irty years ago. My focus was on Aron sweaters.\n\n\n\nAbout 10 years ago\,
  I became involved with the summer Language and Heritage Camps run by the 
 Sons of Norway\, when I was offered an opportunity to teach knitting to th
 e 13- to 17-year-old group. Each summer after that\, I taught myself a new
  Nordic craft so I could then teach the kids something new the next summer
 . The next craft was tablet weaving followed by Hardangersøm (Norwegian H
 ardanger Embroidery) and most recently Nålebinding (sometimes called sing
 le needle knitting).\n\n
CATEGORIES:Monthly Meeting
LOCATION:Mid-County Senior Center\, 829 Bay Ave\, Capitola\, CA\, 95010\, U
 nited States
GEO:36.981348;-121.957398
X-APPLE-STRUCTURED-LOCATION;VALUE=URI;X-ADDRESS=829 Bay Ave\, Capitola\, CA
 \, 95010\, United States;X-APPLE-RADIUS=100;X-TITLE=Mid-County Senior Cent
 er:geo:36.981348,-121.957398
END:VEVENT
BEGIN:VTIMEZONE
TZID:America/Los_Angeles
X-LIC-LOCATION:America/Los_Angeles
BEGIN:STANDARD
DTSTART:20241103T010000
TZOFFSETFROM:-0700
TZOFFSETTO:-0800
TZNAME:PST
END:STANDARD
END:VTIMEZONE
END:VCALENDAR