BEGIN:VCALENDAR
VERSION:2.0
PRODID:-//wp-events-plugin.com//7.2.3.1//EN
TZID:America/Los_Angeles
X-WR-TIMEZONE:America/Los_Angeles
BEGIN:VEVENT
UID:40@santacruztextileartsguild.com
DTSTART;TZID=America/Los_Angeles:20250212T130000
DTEND;TZID=America/Los_Angeles:20250212T160000
DTSTAMP:20250425T154053Z
URL:https://santacruztextileartsguild.com/events/sctag-february-workshop/
SUMMARY:SCTAG February Workshop
DESCRIPTION:\n\nTopic: Introduction to Hardangersøm (Norwegian Hardanger E
 mbroidery)\n\n\n\nThis workshop will teach the participants the fundamenta
 ls of Norwegian Hardanger embroidery. All materials will be included and t
 he participants will complete a project suitable to be used as a Christmas
  tree ornament.\n\n\n\nThe workshop will continue on Saturday\, February 1
 5 from 10:00 AM until 5:00 PM at the Villa Santa Cruz Clubhouse. \n\n\n\n\
 n\n\n\nSpeaker: Bruce Fihe\n\n\n\nCost: Workshop fee -  $60.00 + Materials
  fee - $20.00\n Click on the More Info button to register.\n\n
CATEGORIES:Workshop
LOCATION:Mid-County Senior Center\, 829 Bay Ave\, Capitola\, CA\, 95010\, U
 nited States
GEO:36.981348;-121.957398
X-APPLE-STRUCTURED-LOCATION;VALUE=URI;X-ADDRESS=829 Bay Ave\, Capitola\, CA
 \, 95010\, United States;X-APPLE-RADIUS=100;X-TITLE=Mid-County Senior Cent
 er:geo:36.981348,-121.957398
END:VEVENT
BEGIN:VTIMEZONE
TZID:America/Los_Angeles
X-LIC-LOCATION:America/Los_Angeles
BEGIN:STANDARD
DTSTART:20241103T010000
TZOFFSETFROM:-0700
TZOFFSETTO:-0800
TZNAME:PST
END:STANDARD
END:VTIMEZONE
END:VCALENDAR