BEGIN:VCALENDAR
VERSION:2.0
PRODID:-//wp-events-plugin.com//7.2.3.1//EN
TZID:America/Los_Angeles
X-WR-TIMEZONE:America/Los_Angeles
BEGIN:VEVENT
UID:44@santacruztextileartsguild.com
DTSTART;TZID=America/Los_Angeles:20260114T093000
DTEND;TZID=America/Los_Angeles:20260114T120000
DTSTAMP:20251016T193436Z
URL:https://santacruztextileartsguild.com/events/sctag-januaray-meeting/
SUMMARY:January - Better Living Through Creativity
DESCRIPTION:\nSpeaker: Gayle Ortiz\n\n\nGayle\, owner Gayle’s Bakery & Ro
 sticceria\, will talk about her textile journey from high school to the pr
 esent\, showing slides of her work. She will also talk about the benefits 
 of starting a small textile guild.\n\n
ATTACH;FMTTYPE=image/jpeg:https://santacruztextileartsguild.com/wp-content
 /uploads/2025/03/gail-01.png
CATEGORIES:Monthly Meeting
LOCATION:Mid-County Senior Center\, 829 Bay Ave\, Capitola\, CA\, 95010\, U
 nited States
GEO:36.981348;-121.957398
X-APPLE-STRUCTURED-LOCATION;VALUE=URI;X-ADDRESS=829 Bay Ave\, Capitola\, CA
 \, 95010\, United States;X-APPLE-RADIUS=100;X-TITLE=Mid-County Senior Cent
 er:geo:36.981348,-121.957398
END:VEVENT
BEGIN:VTIMEZONE
TZID:America/Los_Angeles
X-LIC-LOCATION:America/Los_Angeles
BEGIN:STANDARD
DTSTART:20251102T010000
TZOFFSETFROM:-0700
TZOFFSETTO:-0800
TZNAME:PST
END:STANDARD
END:VTIMEZONE
END:VCALENDAR