BEGIN:VCALENDAR
VERSION:2.0
PRODID:-//wp-events-plugin.com//7.2.3.1//EN
TZID:America/Los_Angeles
X-WR-TIMEZONE:America/Los_Angeles
BEGIN:VEVENT
UID:22@santacruztextileartsguild.com
DTSTART;TZID=America/Los_Angeles:20240612T093000
DTEND;TZID=America/Los_Angeles:20240612T120000
DTSTAMP:20240608T173400Z
URL:https://santacruztextileartsguild.com/events/sctag-june-meeting-2/
SUMMARY:SCTAG June Meeting
DESCRIPTION:Annual Picnic and Sale\nPlease bring whatever you have been wor
 king on to share with us.\n\nIs your stache out of control? Do you have eq
 uipment you no longer use? Here is an excellent opportunity to pass this o
 n to your fiber friends. Bring it to the Annual Picnic and Sale for others
  to take away. Please be prepared to reclaim anything that does not find a
  new home.\n\nIf you find something here that you can not live without\, p
 lease make a donation to the Guild.\n\nDo you have items you wish to sell?
  Finished items\, fiber supplies\, equipment\, whatever\, these are welcom
 e. You will need to manage your own sales\, and the Guild would appreciate
  a donation of 10% of your sales.\n\nDon't forget to bring your lunch and 
 enjoy visiting with your fiber friends.
CATEGORIES:Monthly Meeting
LOCATION:Mid-County Senior Center\, 829 Bay Ave\, Capitola\, CA\, 95010\, U
 nited States
GEO:36.981348;-121.957398
X-APPLE-STRUCTURED-LOCATION;VALUE=URI;X-ADDRESS=829 Bay Ave\, Capitola\, CA
 \, 95010\, United States;X-APPLE-RADIUS=100;X-TITLE=Mid-County Senior Cent
 er:geo:36.981348,-121.957398
END:VEVENT
BEGIN:VTIMEZONE
TZID:America/Los_Angeles
X-LIC-LOCATION:America/Los_Angeles
BEGIN:DAYLIGHT
DTSTART:20240310T030000
TZOFFSETFROM:-0800
TZOFFSETTO:-0700
TZNAME:PDT
END:DAYLIGHT
END:VTIMEZONE
END:VCALENDAR