BEGIN:VCALENDAR
VERSION:2.0
PRODID:-//wp-events-plugin.com//7.2.3.1//EN
TZID:America/Los_Angeles
X-WR-TIMEZONE:America/Los_Angeles
BEGIN:VEVENT
UID:39@santacruztextileartsguild.com
DTSTART;TZID=America/Los_Angeles:20250611T103000
DTEND;TZID=America/Los_Angeles:20250611T130000
DTSTAMP:20250715T184858Z
URL:https://santacruztextileartsguild.com/events/sctag-june-meeting-3/
SUMMARY:SCTAG June Meeting
DESCRIPTION:\nTopic: Annual Picnic \, Swap\, & Sale \n
CATEGORIES:Monthly Meeting
LOCATION:Anna Jean Cummings Park\, 461 Old San Jose Rd\, Soquel\, CA\, Unit
 ed States
GEO:36.994665;-121.958076
X-APPLE-STRUCTURED-LOCATION;VALUE=URI;X-ADDRESS=461 Old San Jose Rd\, Soque
 l\, CA\, United States;X-APPLE-RADIUS=100;X-TITLE=Anna Jean Cummings Park:
 geo:36.994665,-121.958076
END:VEVENT
BEGIN:VTIMEZONE
TZID:America/Los_Angeles
X-LIC-LOCATION:America/Los_Angeles
BEGIN:DAYLIGHT
DTSTART:20250309T030000
TZOFFSETFROM:-0800
TZOFFSETTO:-0700
TZNAME:PDT
END:DAYLIGHT
END:VTIMEZONE
END:VCALENDAR