BEGIN:VCALENDAR
VERSION:2.0
PRODID:-//wp-events-plugin.com//7.2.3.1//EN
TZID:America/Los_Angeles
X-WR-TIMEZONE:America/Los_Angeles
BEGIN:VEVENT
UID:78@santacruztextileartsguild.com
DTSTART;TZID=America/Los_Angeles:20260610T103000
DTEND;TZID=America/Los_Angeles:20260610T130000
DTSTAMP:20260328T141816Z
URL:https://santacruztextileartsguild.com/events/sctag-june-meeting-4/
SUMMARY:June - Member Annual Potluck Picnic and Sale
DESCRIPTION:\nPlease join us for our annual Potluck Picnic on June 10th. Th
 is is in place of our regular Guild meeting\, and it will be at Anna Jean 
 Cummings County Park. Don’t forget to bring whatever you have been worki
 ng on to share with us.\n\n\n\nDo you have fiber related materials and/or 
 equipment that you no longer use? Bring the items to our picnic to pass on
  to your fiber friends! Please be prepared to reclaim anything that does n
 ot find a “new home”.\n\n\n\nIf you find something here that you canno
 t live without\, please make a donation to the Guild.\n\n\n\nDo you have i
 tems you wish to sell? Finished items\, fiber supplies\, equipment\, etc.\
 , are welcome. You will need to manage your own sales\, and the Guild woul
 d greatly appreciate a donation of 10% of your sales.\n\n\n\nDon’t forge
 t to bring a dish to share with all\, as well as your place setting and yo
 ur own drink.\n\n\n\nDon’t forget that next years dues will be due soon.
  Our picnic is the end of our Guild calendar year.\n
ATTACH;FMTTYPE=image/jpeg:https://santacruztextileartsguild.com/wp-content
 /uploads/2025/07/picnic-area-anna-jean.jpg
CATEGORIES:Monthly Meeting
LOCATION:Anna Jean Cummings Park\, 461 Old San Jose Rd\, Soquel\, CA\, Unit
 ed States
GEO:36.994665;-121.958076
X-APPLE-STRUCTURED-LOCATION;VALUE=URI;X-ADDRESS=461 Old San Jose Rd\, Soque
 l\, CA\, United States;X-APPLE-RADIUS=100;X-TITLE=Anna Jean Cummings Park:
 geo:36.994665,-121.958076
END:VEVENT
BEGIN:VTIMEZONE
TZID:America/Los_Angeles
X-LIC-LOCATION:America/Los_Angeles
BEGIN:DAYLIGHT
DTSTART:20260308T030000
TZOFFSETFROM:-0800
TZOFFSETTO:-0700
TZNAME:PDT
END:DAYLIGHT
END:VTIMEZONE
END:VCALENDAR