BEGIN:VCALENDAR
VERSION:2.0
PRODID:-//wp-events-plugin.com//7.2.3.1//EN
TZID:America/Los_Angeles
X-WR-TIMEZONE:America/Los_Angeles
BEGIN:VEVENT
UID:36@santacruztextileartsguild.com
DTSTART;TZID=America/Los_Angeles:20250312T093000
DTEND;TZID=America/Los_Angeles:20250312T120000
DTSTAMP:20241107T195428Z
URL:https://santacruztextileartsguild.com/events/sctag-march-meeting-2/
SUMMARY:SCTAG March Meeting
DESCRIPTION:\nTopic: Personal style and how it is influencing the fashion b
 usiness\n\n\n\nThere is a current trend in fashion for expressing your own
  personal style. This is a departure from a time where designers and brand
 s would set a silhouette and color for a season and women would follow it.
  Think about Dior's "New Look" and the sensation it created. Or the logos 
 that branded the wearer to a certain brand in the 1980's and beyond. Now w
 e have trends but the wearer gets to interpret them. This allows for more 
 creativity in dress but does it make it more confusing for the average sho
 pper?\n\n\n\nOther topics that might be included in this discussion are:\n
 \n\n\n\nsustainability\n\n\n\nup-cycling\n\n\n\noutdated business models w
 ithin the fashion industry\n\n\n\ninfluencers &amp\; social media\n\n\n\nl
 ocal designers\n\n\n\nsizing\n\n\n\n\nSpeaker: Tina Brown\n\n\n\nI’m a f
 ashion stylist and I live in Santa Cruz\, California. I work with amazing 
 clients throughout Silicon Valley and the Monterey Bay Area. I’ve develo
 ped my own trademark Three Elements of Style — body shape\, coloring\, a
 nd most importantly\, your personality — to build a fashion platform tha
 t really reflects who you are\, and what looks best on you. I’ll work wi
 th your existing wardrobe and within your budget to get the most from your
  own closet. And if you don’t have time to shop\, I can do that too. Wit
 h a B.S. in Environmental Design from UC Davis\, Tina’s studies emphasiz
 ed clothing as an environment for the body\, not solely fashion. She inter
 ned with a French milliner in San Francisco and worked at Britex Fabrics w
 here she took her first consignment making hats for a major runway event f
 or Macy’s. Tina went on to work for the next ten years on fashion photo 
 shoots and runway events in San Francisco\, San Jose and Los Angeles. Some
  of her clients included Macy’s\, Saks Fifth Avenue and Giorgio Armani. 
 Her credits also include movie set costume stylist\, and makeovers for cli
 ents ranging from female executives and retired professionals to new moms.
  Tina especially enjoys helping clients find their fashion identity after 
 lifestyle changes.\n
CATEGORIES:Monthly Meeting
LOCATION:Mid-County Senior Center\, 829 Bay Ave\, Capitola\, CA\, 95010\, U
 nited States
GEO:36.981348;-121.957398
X-APPLE-STRUCTURED-LOCATION;VALUE=URI;X-ADDRESS=829 Bay Ave\, Capitola\, CA
 \, 95010\, United States;X-APPLE-RADIUS=100;X-TITLE=Mid-County Senior Cent
 er:geo:36.981348,-121.957398
END:VEVENT
BEGIN:VTIMEZONE
TZID:America/Los_Angeles
X-LIC-LOCATION:America/Los_Angeles
BEGIN:DAYLIGHT
DTSTART:20250309T030000
TZOFFSETFROM:-0800
TZOFFSETTO:-0700
TZNAME:PDT
END:DAYLIGHT
END:VTIMEZONE
END:VCALENDAR