BEGIN:VCALENDAR
VERSION:2.0
PRODID:-//wp-events-plugin.com//7.2.3.1//EN
TZID:America/Los_Angeles
X-WR-TIMEZONE:America/Los_Angeles
BEGIN:VEVENT
UID:76@santacruztextileartsguild.com
DTSTART;TZID=America/Los_Angeles:20260311T093000
DTEND;TZID=America/Los_Angeles:20260311T120000
DTSTAMP:20260107T060150Z
URL:https://santacruztextileartsguild.com/events/sctag-march-meeting-3/
SUMMARY:March - Backstrap Weaving
DESCRIPTION:\nTopic: Why I Weave\; How I Learned To Love Weaving Thanks To 
 The Backstrap Loom\n\n\n\nSpeaker: Ann Hamburg\n\n\n\nBackstrap weaver\, A
 nn Hamburg\, will take us through her weaving journey sharing what a life 
 changing experience learning to weave on the backstrap loom was for her. A
 nn says\, “I love to get my fingers into fiber and thread to create with
  sticks and string while exploring ways to create depth of color and bring
  historical motifs into a modern textile tradition”.\n
ATTACH;FMTTYPE=image/jpeg:https://santacruztextileartsguild.com/wp-content
 /uploads/2025/07/backstrap-3.jpg
CATEGORIES:Monthly Meeting
LOCATION:Mid-County Senior Center\, 829 Bay Ave\, Capitola\, CA\, 95010\, U
 nited States
GEO:36.981348;-121.957398
X-APPLE-STRUCTURED-LOCATION;VALUE=URI;X-ADDRESS=829 Bay Ave\, Capitola\, CA
 \, 95010\, United States;X-APPLE-RADIUS=100;X-TITLE=Mid-County Senior Cent
 er:geo:36.981348,-121.957398
END:VEVENT
BEGIN:VTIMEZONE
TZID:America/Los_Angeles
X-LIC-LOCATION:America/Los_Angeles
BEGIN:DAYLIGHT
DTSTART:20260308T030000
TZOFFSETFROM:-0800
TZOFFSETTO:-0700
TZNAME:PDT
END:DAYLIGHT
END:VTIMEZONE
END:VCALENDAR