BEGIN:VCALENDAR
VERSION:2.0
PRODID:-//wp-events-plugin.com//7.2.3.1//EN
TZID:America/Los_Angeles
X-WR-TIMEZONE:America/Los_Angeles
BEGIN:VEVENT
UID:37@santacruztextileartsguild.com
DTSTART;TZID=America/Los_Angeles:20250514T093000
DTEND;TZID=America/Los_Angeles:20250514T120000
DTSTAMP:20240612T053935Z
URL:https://santacruztextileartsguild.com/events/sctag-may-meeting-2/
SUMMARY:SCTAG May Meeting
DESCRIPTION:\n\n\nTopic: Medieval Distaff Spinning\n\n\n\nLearn about the i
 mportance of the distaff during the Medieval period and how this historica
 l European style of spinning differs from the drop spindling that most mod
 ern spinners are familiar with.\n\n\n\nSpeaker: Siobhan Harlakenden\n\n\n\
 nI am a fiber artist and heritage craft enthusiast who does a little bit o
 f everything but my main focus anything relating to wool. As someone who w
 as always called an old soul\, it seems only fitting that heritage crafts 
 seem to have touched something deep inside me that harkens back to previou
 s lives that are now being expressed again through my modern day hands. It
  brings me great joy to share my love of sheep and history with current ge
 nerations and having a role to play in keeping these crafts alive.\n\n\n\n
 \n\n\n\n\n\n\n\n\n
CATEGORIES:Monthly Meeting
LOCATION:Mid-County Senior Center\, 829 Bay Ave\, Capitola\, CA\, 95010\, U
 nited States
GEO:36.981348;-121.957398
X-APPLE-STRUCTURED-LOCATION;VALUE=URI;X-ADDRESS=829 Bay Ave\, Capitola\, CA
 \, 95010\, United States;X-APPLE-RADIUS=100;X-TITLE=Mid-County Senior Cent
 er:geo:36.981348,-121.957398
END:VEVENT
BEGIN:VTIMEZONE
TZID:America/Los_Angeles
X-LIC-LOCATION:America/Los_Angeles
BEGIN:DAYLIGHT
DTSTART:20250309T030000
TZOFFSETFROM:-0800
TZOFFSETTO:-0700
TZNAME:PDT
END:DAYLIGHT
END:VTIMEZONE
END:VCALENDAR