BEGIN:VCALENDAR
VERSION:2.0
PRODID:-//wp-events-plugin.com//7.2.3.1//EN
TZID:America/Los_Angeles
X-WR-TIMEZONE:America/Los_Angeles
BEGIN:VEVENT
UID:24@santacruztextileartsguild.com
DTSTART;TZID=America/Los_Angeles:20240508T093000
DTEND;TZID=America/Los_Angeles:20240508T120000
DTSTAMP:20240314T143146Z
URL:https://santacruztextileartsguild.com/events/sctag-may-meeting-2024/
SUMMARY:SCTAG May Meeting
DESCRIPTION:Topic: Botanical Printing &amp\; Dyeing\n\nSpeaker: Mayumi Fuji
 o\nMayumi is an award winning fiber artist using natural dye and mushroom 
 dye with the technique called botanical printing which uses real leaves to
  transfer colors and shapes from plants onto natural fibers. She extracts 
 dye from nature and uses it for her work on silk\, wool and other natural 
 fibers. Mayumi will present a brief history of natural dye\, the types of 
 plants (and some insects!) to dye and process of Botanical printing.\n\n
CATEGORIES:Monthly Meeting
LOCATION:Mid-County Senior Center\, 829 Bay Ave\, Capitola\, CA\, 95010\, U
 nited States
GEO:36.981348;-121.957398
X-APPLE-STRUCTURED-LOCATION;VALUE=URI;X-ADDRESS=829 Bay Ave\, Capitola\, CA
 \, 95010\, United States;X-APPLE-RADIUS=100;X-TITLE=Mid-County Senior Cent
 er:geo:36.981348,-121.957398
END:VEVENT
BEGIN:VTIMEZONE
TZID:America/Los_Angeles
X-LIC-LOCATION:America/Los_Angeles
BEGIN:DAYLIGHT
DTSTART:20240310T030000
TZOFFSETFROM:-0800
TZOFFSETTO:-0700
TZNAME:PDT
END:DAYLIGHT
END:VTIMEZONE
END:VCALENDAR