BEGIN:VCALENDAR
VERSION:2.0
PRODID:-//wp-events-plugin.com//7.2.3.1//EN
TZID:America/Los_Angeles
X-WR-TIMEZONE:America/Los_Angeles
BEGIN:VEVENT
UID:77@santacruztextileartsguild.com
DTSTART;TZID=America/Los_Angeles:20260513T093000
DTEND;TZID=America/Los_Angeles:20260513T120000
DTSTAMP:20251017T203340Z
URL:https://santacruztextileartsguild.com/events/sctag-may-meeting-3/
SUMMARY:May - From Tapestry to Transparency
DESCRIPTION:\nSpeaker: Rebecca Smith\n\n\n\nSan Diego artist\, Rebecca Smit
 h\, is a nationally known teacher whose work has been shown in numerous ju
 ried shows throughout the US. She will share her weaving journey from wor
 kshops she took with master tapestry weaver\, Archie Brennan in 1999 to he
 r current work with woven transparencies.\n
ATTACH;FMTTYPE=image/jpeg:https://santacruztextileartsguild.com/wp-content
 /uploads/2025/07/Smith_Tidepool-72DPI.jpg
CATEGORIES:Monthly Meeting
LOCATION:Mid-County Senior Center\, 829 Bay Ave\, Capitola\, CA\, 95010\, U
 nited States
GEO:36.981348;-121.957398
X-APPLE-STRUCTURED-LOCATION;VALUE=URI;X-ADDRESS=829 Bay Ave\, Capitola\, CA
 \, 95010\, United States;X-APPLE-RADIUS=100;X-TITLE=Mid-County Senior Cent
 er:geo:36.981348,-121.957398
END:VEVENT
BEGIN:VTIMEZONE
TZID:America/Los_Angeles
X-LIC-LOCATION:America/Los_Angeles
BEGIN:DAYLIGHT
DTSTART:20260308T030000
TZOFFSETFROM:-0800
TZOFFSETTO:-0700
TZNAME:PDT
END:DAYLIGHT
END:VTIMEZONE
END:VCALENDAR