BEGIN:VCALENDAR
VERSION:2.0
PRODID:-//wp-events-plugin.com//7.2.3.1//EN
TZID:America/Los_Angeles
X-WR-TIMEZONE:America/Los_Angeles
BEGIN:VEVENT
UID:28@santacruztextileartsguild.com
DTSTART;TZID=America/Los_Angeles:20240508T130000
DTEND;TZID=America/Los_Angeles:20240508T170000
DTSTAMP:20240316T173939Z
URL:https://santacruztextileartsguild.com/events/sctag-may-workshop/
SUMMARY:SCTAG May Workshop
DESCRIPTION:Topic: Natural Dye and Botanical Printing\n\nSpeaker: Mayumi Fu
 jio\n\nWebsite: https://www.mayumix.com\n\nLearn to create beautiful print
 s using fresh leaves\, flowers and minerals. Mayuymi will teach us how to 
 transfer these natural colors and shapes from plants onto silk fiber. You 
 will have a lovely scarf to take home.\n\nClick here to register.\n\n
CATEGORIES:Workshop
LOCATION:Mid-County Senior Center\, 829 Bay Ave\, Capitola\, CA\, 95010\, U
 nited States
GEO:36.981348;-121.957398
X-APPLE-STRUCTURED-LOCATION;VALUE=URI;X-ADDRESS=829 Bay Ave\, Capitola\, CA
 \, 95010\, United States;X-APPLE-RADIUS=100;X-TITLE=Mid-County Senior Cent
 er:geo:36.981348,-121.957398
END:VEVENT
BEGIN:VTIMEZONE
TZID:America/Los_Angeles
X-LIC-LOCATION:America/Los_Angeles
BEGIN:DAYLIGHT
DTSTART:20240310T030000
TZOFFSETFROM:-0800
TZOFFSETTO:-0700
TZNAME:PDT
END:DAYLIGHT
END:VTIMEZONE
END:VCALENDAR