BEGIN:VCALENDAR
VERSION:2.0
PRODID:-//wp-events-plugin.com//7.2.3.1//EN
TZID:America/Los_Angeles
X-WR-TIMEZONE:America/Los_Angeles
BEGIN:VEVENT
UID:31@santacruztextileartsguild.com
DTSTART;TZID=America/Los_Angeles:20241113T093000
DTEND;TZID=America/Los_Angeles:20241113T120000
DTSTAMP:20240929T230130Z
URL:https://santacruztextileartsguild.com/events/sctag-november-meeting-2/
SUMMARY:SCTAG November Meeting
DESCRIPTION:\nTopic: Celebrate SCTAG Interest Groups\n\n\n\nA table will be
  set up for each group to display their items or a space for a demonstrati
 on.&nbsp\; A short explanation from each group will be appreciated.\n
CATEGORIES:Monthly Meeting
LOCATION:Mid-County Senior Center\, 829 Bay Ave\, Capitola\, CA\, 95010\, U
 nited States
GEO:36.981348;-121.957398
X-APPLE-STRUCTURED-LOCATION;VALUE=URI;X-ADDRESS=829 Bay Ave\, Capitola\, CA
 \, 95010\, United States;X-APPLE-RADIUS=100;X-TITLE=Mid-County Senior Cent
 er:geo:36.981348,-121.957398
END:VEVENT
BEGIN:VTIMEZONE
TZID:America/Los_Angeles
X-LIC-LOCATION:America/Los_Angeles
BEGIN:STANDARD
DTSTART:20241103T010000
TZOFFSETFROM:-0700
TZOFFSETTO:-0800
TZNAME:PST
END:STANDARD
END:VTIMEZONE
END:VCALENDAR