BEGIN:VCALENDAR
VERSION:2.0
PRODID:-//wp-events-plugin.com//7.2.3.1//EN
TZID:America/Los_Angeles
X-WR-TIMEZONE:America/Los_Angeles
BEGIN:VEVENT
UID:30@santacruztextileartsguild.com
DTSTART;TZID=America/Los_Angeles:20241009T093000
DTEND;TZID=America/Los_Angeles:20241009T120000
DTSTAMP:20240623T190352Z
URL:https://santacruztextileartsguild.com/events/sctag-october-meeting-2/
SUMMARY:SCTAG October Meeting
DESCRIPTION:\n\n\nTopic: My history of a 30-year voyage of discovery in mak
 ing art quilts\n\n\n\nSpeaker: Alice Beasley\n\n\n\nI am an artist who liv
 es and works in Oakland\, California. I have been making portraits of peop
 le and objects since 1988. Fabric is my chosen medium of expression throug
 h which I incorporate the same light\, shadow and realistic perspective us
 ed by artists in other media. Rather than using paint\, dyes or other surf
 ace treatments\, however\, I rely instead on finding color\, line and text
 ure in the print of commercial fabric and thread or in fabrics that I prin
 t myself. I work directly\, gradually building a composition in the same m
 anner as a painter working on a canvas\; cutting all pieces free-hand from
  fabric and then machine appliqueing them.\n\n\n\nWebsite: https://alicebe
 asley.com\n\n\n\n\n\nThe Water Dancer\n\n\n
CATEGORIES:Monthly Meeting
LOCATION:Mid-County Senior Center\, 829 Bay Ave\, Capitola\, CA\, 95010\, U
 nited States
GEO:36.981348;-121.957398
X-APPLE-STRUCTURED-LOCATION;VALUE=URI;X-ADDRESS=829 Bay Ave\, Capitola\, CA
 \, 95010\, United States;X-APPLE-RADIUS=100;X-TITLE=Mid-County Senior Cent
 er:geo:36.981348,-121.957398
END:VEVENT
BEGIN:VTIMEZONE
TZID:America/Los_Angeles
X-LIC-LOCATION:America/Los_Angeles
BEGIN:DAYLIGHT
DTSTART:20240310T030000
TZOFFSETFROM:-0800
TZOFFSETTO:-0700
TZNAME:PDT
END:DAYLIGHT
END:VTIMEZONE
END:VCALENDAR