BEGIN:VCALENDAR
VERSION:2.0
PRODID:-//wp-events-plugin.com//7.2.3.1//EN
TZID:America/Los_Angeles
X-WR-TIMEZONE:America/Los_Angeles
BEGIN:VEVENT
UID:81@santacruztextileartsguild.com
DTSTART;TZID=America/Los_Angeles:20251112T093000
DTEND;TZID=America/Los_Angeles:20251112T120000
DTSTAMP:20251110T041319Z
URL:https://santacruztextileartsguild.com/events/sctag-october-meeting-3/
SUMMARY:November - Notes from the Field
DESCRIPTION:\nSpeaker: Mary Zicafoose\n\n\nNote: Due to illness related tra
 vel restrictions\, Mary's presentation at the Mid-County Senior Center wil
 l be presented via Zoom.\n\n\nNebraska artist Mary Zicafoose is an interna
 tionally known master weaver specializing in weft ikat\, a complex resist-
 dye weaving process. She will share her story as a weaver\, celebrating th
 e sources of her inspiration\, the challenges\, and the unwavering focus o
 f a lifetime spent creating behind the loom.\n
ATTACH;FMTTYPE=image/jpeg:https://santacruztextileartsguild.com/wp-content
 /uploads/2025/05/Field-Guide-Study-No-2.png
CATEGORIES:Monthly Meeting
LOCATION:Mid-County Senior Center\, 829 Bay Ave\, Capitola\, CA\, 95010\, U
 nited States
GEO:36.981348;-121.957398
X-APPLE-STRUCTURED-LOCATION;VALUE=URI;X-ADDRESS=829 Bay Ave\, Capitola\, CA
 \, 95010\, United States;X-APPLE-RADIUS=100;X-TITLE=Mid-County Senior Cent
 er:geo:36.981348,-121.957398
END:VEVENT
BEGIN:VTIMEZONE
TZID:America/Los_Angeles
X-LIC-LOCATION:America/Los_Angeles
BEGIN:STANDARD
DTSTART:20251102T010000
TZOFFSETFROM:-0700
TZOFFSETTO:-0800
TZNAME:PST
END:STANDARD
END:VTIMEZONE
END:VCALENDAR