BEGIN:VCALENDAR
VERSION:2.0
PRODID:-//wp-events-plugin.com//7.2.3.1//EN
TZID:America/Los_Angeles
X-WR-TIMEZONE:America/Los_Angeles
BEGIN:VEVENT
UID:29@santacruztextileartsguild.com
DTSTART;TZID=America/Los_Angeles:20240918T093000
DTEND;TZID=America/Los_Angeles:20240918T120000
DTSTAMP:20240511T171051Z
URL:https://santacruztextileartsguild.com/events/sctag-september-meeting-2
 /
SUMMARY:SCTAG September Meeting
DESCRIPTION:\nTopic: County Fair Wrap Up and Show &amp\; Tell\n\n\n\n\n\nMe
 mbers will share their Fair experience and awards will be announced.\n\n\n
 \nThis will also be your chance to show any work you have completed this S
 ummer\, or even over the past year. With no other program\, there will be 
 time to tell us the back story of your work.\n\n\n\n\n\n\n\n\n
CATEGORIES:Monthly Meeting
LOCATION:Mid-County Senior Center\, 829 Bay Ave\, Capitola\, CA\, 95010\, U
 nited States
GEO:36.981348;-121.957398
X-APPLE-STRUCTURED-LOCATION;VALUE=URI;X-ADDRESS=829 Bay Ave\, Capitola\, CA
 \, 95010\, United States;X-APPLE-RADIUS=100;X-TITLE=Mid-County Senior Cent
 er:geo:36.981348,-121.957398
END:VEVENT
BEGIN:VTIMEZONE
TZID:America/Los_Angeles
X-LIC-LOCATION:America/Los_Angeles
BEGIN:DAYLIGHT
DTSTART:20240310T030000
TZOFFSETFROM:-0800
TZOFFSETTO:-0700
TZNAME:PDT
END:DAYLIGHT
END:VTIMEZONE
END:VCALENDAR