BEGIN:VCALENDAR
VERSION:2.0
PRODID:-//wp-events-plugin.com//7.2.3.1//EN
TZID:America/Los_Angeles
X-WR-TIMEZONE:America/Los_Angeles
BEGIN:VEVENT
UID:66@santacruztextileartsguild.com
DTSTART;TZID=America/Los_Angeles:20250910T093000
DTEND;TZID=America/Los_Angeles:20250910T120000
DTSTAMP:20250826T191820Z
URL:https://santacruztextileartsguild.com/events/sctag-september-meeting-5
 /
SUMMARY:SCTAG September Meeting
DESCRIPTION:\n\n\n\nOpen to the public\, please join members for the monthl
 y Guild meeting at the Heritage Hall\, Santa Cruz County Fairgrounds\, Wat
 sonville.\n\n\n\nFollowing our business meeting\, we will have our traditi
 onal SEPTEMBER SHARING MEETING. Members (and guests too) are invited to sh
 are work in progress or completed work. It might be a fiber event attended
 \, like a workshop\, lecture or show. Fiber-related classes or events run 
 by our teachers. Interest groups summer projects. We will also announce th
 e County Fair ribbon winners from our guild. And don't forget to tour the 
 display our volunteers will have put up in the famous Chicken Barn.\n\n\n\
 n\n\n\n\n\n\n
CATEGORIES:Monthly Meeting
LOCATION:Santa Cruz County Fairgrounds\, 2601 East Lake Avenue\, Watsonvill
 e\, CA\, 95076\, United States
GEO:36.950656;-121.73345
X-APPLE-STRUCTURED-LOCATION;VALUE=URI;X-ADDRESS=2601 East Lake Avenue\, Wat
 sonville\, CA\, 95076\, United States;X-APPLE-RADIUS=100;X-TITLE=Santa Cru
 z County Fairgrounds:geo:36.950656,-121.73345
END:VEVENT
BEGIN:VTIMEZONE
TZID:America/Los_Angeles
X-LIC-LOCATION:America/Los_Angeles
BEGIN:DAYLIGHT
DTSTART:20250309T030000
TZOFFSETFROM:-0800
TZOFFSETTO:-0700
TZNAME:PDT
END:DAYLIGHT
END:VTIMEZONE
END:VCALENDAR