BEGIN:VCALENDAR
VERSION:2.0
PRODID:-//wp-events-plugin.com//7.2.3.1//EN
TZID:America/Los_Angeles
X-WR-TIMEZONE:America/Los_Angeles
BEGIN:VEVENT
UID:42@santacruztextileartsguild.com
DTSTART;TZID=America/Los_Angeles:20250329T090000
DTEND;TZID=America/Los_Angeles:20250329T170000
DTSTAMP:20250216T210805Z
URL:https://santacruztextileartsguild.com/events/tablet-card-weaving-101-w
 orkshop/
SUMMARY:March Workshop
DESCRIPTION:\nTopic: Tablet (card) Weaving 101 - Stand Alone Workshop\n\n\n
 \nThis is a stand alone workshop and not associated with the March monthly
  meeting. This is also a fund raiser for the Guild library. 100% of the wo
 rkshop fee (not the materials fee) will be donated to the Guild for the su
 pport of the library.\n\n\n\nDescription: This workshop is an introduction
  to tablet weaving\, sometimes called card weaving. It is intended for tho
 se who have no prior experience with tablet weaving and want to learn the 
 basics of this process. Prior weaving is helpful\, but not required.\n\n\n
 \nSpeaker: Bruce Fihe\n\n\n\nSee the February Meeting for Bruce's bio.\n\n
 \nNote: This is an all-day Saturday workshop.Cost: Workshop fee - $45.00\,
  Materials fee - $25.00\n\n\nClick here to register.\n
CATEGORIES:Workshop
LOCATION:Villa Santa Cruz Clubhouse\, 2435 Felt St - Clubhouse\, Santa Cruz
 \, CA\, 95062\, United States
GEO:36.966873;-121.977282
X-APPLE-STRUCTURED-LOCATION;VALUE=URI;X-ADDRESS=2435 Felt St - Clubhouse\, 
 Santa Cruz\, CA\, 95062\, United States;X-APPLE-RADIUS=100;X-TITLE=Villa S
 anta Cruz Clubhouse:geo:36.966873,-121.977282
END:VEVENT
BEGIN:VTIMEZONE
TZID:America/Los_Angeles
X-LIC-LOCATION:America/Los_Angeles
BEGIN:DAYLIGHT
DTSTART:20250309T030000
TZOFFSETFROM:-0800
TZOFFSETTO:-0700
TZNAME:PDT
END:DAYLIGHT
END:VTIMEZONE
END:VCALENDAR